Workbook

Sheet 1. Readme
A1: RISK ASSESSMENT TEMPLATE - INDOOR EVENTS
A3: Why complete the template?
A4: The purpose of this tool is to ensure that safety is taken into consideration when one is planning to, or organising a conference or a gathering of a number of personnel in one place. The organisers of an event (external conferences, meetings, social events, etc) should understand that their obligations and duty of care are high even if they cannot control the entire activity of participants Factors surrounding the event should be taken into consideration and integrated into the planning of an event in order to avoid / minimise unpleasant surprises and unnecessary and unmitigated risks. REMEMBER If you fail to plan, then you plan to fail.
A6: WHAT DO YOU NEED TO DO
A7: SAVE A COPY OF THIS TEMPLATE! Create your own Risk Assessment folder in your event files. Edit your NEW template (not this master copy)
A8: A) ASSESS YOUR EVENT
A9: 1. Answer the questions on the 'Assessment' tab
A12: B) COMPLETE THE RISK SAFETY REGISTER
A13: 3. If you have a 'complicated' event, edit and complete the Risk Safety Register, adding additional hazards as required, based on your individual location or event
A14: 4. Take a look at the 'risk assesment criteria' and understand what the different levels of risk mean
A15: 5. Enter your hazards into the 'Risk Safety Register'
A16: 6. Go through the Risk Safety Register with your team and ensure all the risks are catered for
... A21: 9. Do a review after your event and consider any additional preventative action you can take for your next event.

Sheet 2. Assessment
A1: ASSESSMENT OF LEVEL OF OF EVENT RISK - INDOOR EVENTS
A2: EVENT NAME: | C2: EnGenius 2025 | E2: EVENT DATE: | F2: 45952
A3: Event Organisers: | E3: Expected numbers: | F3: 700
A4: Event Location: | C4: MCEC
A5: Overview of Event | C5: Final year engineering showcase | E5: for e.g " Awards event for students, theatre style seating with catering
A6: QUESTION | B6: HAZARDS - QUESTIONS | C6: YES/NO | D6: NEXT STEP | E6: NOTES
A7: Does your event involve any of the following?
A8: 1 | B8: Hazardous/biological substances (Batteries, plants etc.) Outside of normal use. | D8: =IF(ISBLANK(C8)," ",(IF(C8="yes", "Complete the Risk Register: Chemical & event management sections", "Great! No action required")))
A9: 2 | B9: Additional electrical equipment (ie. additional lighting/speakers etc) | D9: =IF(ISBLANK(C9)," ",(IF(C9="yes", "Complete the Risk Register: electrical & event management sections", "Great! No action required")))
A10: 3 | B10: Are you decreasing the floor space for people which may create any egress or ingress issues? | D10: =IF(ISBLANK(C10)," ",(IF(C10="yes", "Complete the Risk Register: COVIDSafe and Event Management section", "Great! No action required")))
A11: 4 | B11: Will you have alcohol or food on site | D11: =IF(ISBLANK(C11)," ",(IF(C11="yes", "Complete the Food/Alcohol, COVIDSafe and event management sections", "Great! No action required")))
A12: 5 | B12: Will there be any working at heights? ( Any work where there is a risk of a fall from one level to the next or into a hole (e.g. working off a ladder over 2 metre above the ground like fitting lights, art work etc) | D12: =IF(ISBLANK(C12)," ",(IF(C12="yes", "Complete the Risk Register: working at heights & event management sections", "Great! No action required")))
A13: 6 | B13: Will your event have more than 50 people attending? | D13: =IF(ISBLANK(C13)," ",(IF(C13="yes", "Complete the Risk Register: COVIDSafe and Event Management section", "Great! No action required")))
A14: 7 | B14: Will patrons be unable to maintain social distance or require face masks? | D14: =IF(ISBLANK(C14)," ",(IF(C14="yes", "Complete the COVIDSafe and event management sections", "Great! No action required")))
A15: 8 | B15: Is your event during the hours of darkness? | D15: =IF(ISBLANK(C15)," ",(IF(C15="yes", "Complete the COVIDSafe and event management sections", "Great! No action required")))
A16: 9 | B16: Will your event have external guests in attendence? | D16: =IF(ISBLANK(C16)," ",(IF(C16="yes", "Complete the COVIDSafe and event management sections", "Great! No action required")))
C17: =IF(ISBLANK(B17)," ",(IF(B17="yes", "Complete the Risk Register for indoor events", "Great! No action required")))

Sheet 3. RiskSafety Register
A1: RISK SAFETY REGISTER - INDOOR EVENTS | D1: INSTRUCTIONS | H1: =IFERROR(VLOOKUP(CONCAT(LEFT(G11,1),LEFT(F11,1)),Validation!A$7:B$31,2,FALSE),"")
D2: 1. PERSONALISE the Hazard & Consequence (column B & C) for your event. Delete lines that aren't relevant
A3: EVENT NAME: | B3: ='2. Assessment'!C2 -> EnGenius 2025 | D3: 2. Review the recommended controls to reduce the risk rating. (column D)
A4: EVENT DATE: | B4: ='2. Assessment'!F2 -> 45952 | D4: 2b. Add your own controls to reduce the risk rating. (column E)
A5: LOCATION/S: | B5: ='2. Assessment'!C4 -> MCEC | D5: 3. Use the drop down lists to calculate your risk rating (Probability and Consequence - refer to the 'Matrix page to understand what these scores mean) - Column F, G, H
D6: 4. Enter the person responsible for managing the risk
D7: 5. If you have any Risks that are moderate or higher, please evaluate your controls or whether the hazard can be avoided entirely.
I8: hidden cells for formula -->> | J8: leave these cells hidden
B9: 1. DETAIL | D9: 2. CONTROL - MINIMUM | E9: 2b. CONTROL - PERSONALISED | F9: 3. MANAGED RISK RATING | I9: 4. ACTION | J9: UNMANAGED | M9: Managed
A10: Risk Category | B10: 1. HAZARD What could cause the risk? | C10: 1b. CONSEQUENCE Potential harm of the hazard occuring | D10: Minimum control measures planned or required | E10: Add your own control measures | F10: Probablity (of hazard occuring) | G10: Consequence | H10: Risk / Safety Rating (Don't delete formula) | I10: Person(s) Responsible (for implementing treatment strategies) | J10: Probability | K10: Consequence | L10: RSR | M10: Probability | N10: Consequence | O10: RSR
A11: Crowd Management | H11: =IFERROR(VLOOKUP(_xlfn.CONCAT(LEFT(G11,1),LEFT(F11,1)),Validation!A$7:B$31,2,FALSE),"")
A12: Slips/Trips/Falls | H12: =IFERROR(VLOOKUP(_xlfn.CONCAT(LEFT(G12,1),LEFT(F12,1)),Validation!A$7:B$31,2,FALSE),"") | L12: =_xlfn.SINGLE(_xlfn.CONCAT(K12, J12)) | O12: =_xlfn.SINGLE(_xlfn.CONCAT(N12, M12))
A13: Fire / Emergency | H13: =IFERROR(VLOOKUP(_xlfn.CONCAT(LEFT(G13,1),LEFT(F13,1)),Validation!A$7:B$31,2,FALSE),"") | L13: =_xlfn.SINGLE(_xlfn.CONCAT(K13, J13)) | O13: =_xlfn.SINGLE(_xlfn.CONCAT(N13, M13))
A14: Medical Emergency | H14: =IFERROR(VLOOKUP(_xlfn.CONCAT(LEFT(G14,1),LEFT(F14,1)),Validation!A$7:B$31,2,FALSE),"") | L14: =_xlfn.SINGLE(_xlfn.CONCAT(K14, J14)) | O14: =_xlfn.SINGLE(_xlfn.CONCAT(N14, M14))
A15: Food Safety (Networking Event) | H15: =IFERROR(VLOOKUP(_xlfn.CONCAT(LEFT(G15,1),LEFT(F15,1)),Validation!A$7:B$31,2,FALSE),"") | L15: =_xlfn.SINGLE(_xlfn.CONCAT(K15, J15)) | O15: =_xlfn.SINGLE(_xlfn.CONCAT(N15, M15))
A16: Security / Theft | H16: =IFERROR(VLOOKUP(_xlfn.CONCAT(LEFT(G16,1),LEFT(F16,1)),Validation!A$7:B$31,2,FALSE),"") | L16: =_xlfn.SINGLE(_xlfn.CONCAT(K16, J16)) | O16: =_xlfn.SINGLE(_xlfn.CONCAT(N16, M16))
A17: Project Booth Hazards | H17: =IFERROR(VLOOKUP(_xlfn.CONCAT(LEFT(G17,1),LEFT(F17,1)),Validation!A$7:B$31,2,FALSE),"") | L17: =_xlfn.SINGLE(_xlfn.CONCAT(K17, J17)) | O17: =_xlfn.SINGLE(_xlfn.CONCAT(N17, M17))
A18: COVID / Infectious Illness (general hygiene) | H18: =IFERROR(VLOOKUP(_xlfn.CONCAT(LEFT(G18,1),LEFT(F18,1)),Validation!A$7:B$31,2,FALSE),"") | L18: =_xlfn.SINGLE(_xlfn.CONCAT(K18, J18)) | O18: =_xlfn.SINGLE(_xlfn.CONCAT(N18, M18))
A19: Power / Technical Failure | H19: =IFERROR(VLOOKUP(_xlfn.CONCAT(LEFT(G19,1),LEFT(F19,1)),Validation!A$7:B$31,2,FALSE),"") | L19: =_xlfn.SINGLE(_xlfn.CONCAT(K19, J19)) | O19: =_xlfn.SINGLE(_xlfn.CONCAT(N19, M19))
A20: Bump-In / Bump-Out Hazards | H20: =IFERROR(VLOOKUP(_xlfn.CONCAT(LEFT(G20,1),LEFT(F20,1)),Validation!A$7:B$31,2,FALSE),"")
H21: =IFERROR(VLOOKUP(_xlfn.CONCAT(LEFT(G21,1),LEFT(F21,1)),Validation!A$7:B$31,2,FALSE),"")
H22: =IFERROR(VLOOKUP(_xlfn.CONCAT(LEFT(G22,1),LEFT(F22,1)),Validation!A$7:B$31,2,FALSE),"")
H23: =IFERROR(VLOOKUP(_xlfn.CONCAT(LEFT(G23,1),LEFT(F23,1)),Validation!A$7:B$31,2,FALSE),"")
H24: =IFERROR(VLOOKUP(_xlfn.CONCAT(LEFT(G24,1),LEFT(F24,1)),Validation!A$7:B$31,2,FALSE),"")
H25: =IFERROR(VLOOKUP(_xlfn.CONCAT(LEFT(G25,1),LEFT(F25,1)),Validation!A$7:B$31,2,FALSE),"")
H26: =IFERROR(VLOOKUP(_xlfn.CONCAT(LEFT(G26,1),LEFT(F26,1)),Validation!A$7:B$31,2,FALSE),"")
H27: =IFERROR(VLOOKUP(_xlfn.CONCAT(LEFT(G27,1),LEFT(F27,1)),Validation!A$7:B$31,2,FALSE),"")
H28: =IFERROR(VLOOKUP(_xlfn.CONCAT(LEFT(G28,1),LEFT(F28,1)),Validation!A$7:B$31,2,FALSE),"")
H29: =IFERROR(VLOOKUP(_xlfn.CONCAT(LEFT(G29,1),LEFT(F29,1)),Validation!A$7:B$31,2,FALSE),"")
H30: =IFERROR(VLOOKUP(_xlfn.CONCAT(LEFT(G30,1),LEFT(F30,1)),Validation!A$7:B$31,2,FALSE),"")
H31: =IFERROR(VLOOKUP(_xlfn.CONCAT(LEFT(G31,1),LEFT(F31,1)),Validation!A$7:B$31,2,FALSE),"")
H32: =IFERROR(VLOOKUP(_xlfn.CONCAT(LEFT(G32,1),LEFT(F32,1)),Validation!A$7:B$31,2,FALSE),"")
... H43: =IFERROR(VLOOKUP(_xlfn.CONCAT(LEFT(G43,1),LEFT(F43,1)),Validation!A$7:B$31,2,FALSE),"")

Sheet On the Day Checklist
A1: ON THE DAY SAFETY CHECKLIST - INDOOR EVENTS
A2: 1. Edit this document for your event, then either print, or edit on your smart device the day of the event
A3: 2. The 'safety officer' appointed for this event should complete this form on the day of the event.
A5: EVENT NAME: | B5: ='2. Assessment'!C2 -> EnGenius 2025 | C5: EVENT DATE: | D5: ='2. Assessment'!F2 -> 45952
A6: SAFETY OFFICER:
A8: CATEGORY | B8: RISK (EDIT TO MAKE EVENT SPECIFIC) | C8: ACCEPTABLE (Select from Dropdown) | D8: ACTION REQUIRED (detail what you need to do) | E8: ACTIONED BY
A9: Event Management | B9: Induction and briefings undertaken | C9: Yes
A10: Event Management | B10: Electrical Leads tagged and tested | C10: NA
A11: Event Management | B11: Electrical leads are safely stowed and not causing trip hazards | C11: Yes
A12: Event Management | B12: Any infrastructure is safe and not forming a hazard | C12: Yes
A13: Event Management | B13: Security onsite (If required) | C13: Yes
A14: Event Management | B14: PPE issued and worn as required (Rain coat, hats, masks) | C14: NA
A15: Event Management | B15: Manual handling issues adressed (Lift, push, pull or carry) | C15: Yes
A16: Event Management | B16: Access and Egress safe and clear | C16: Yes
A17: Food/Alcohol | B17: Food handler is operating safely | C17: Yes
A18: Food/Alcohol | B18: Security is on site where alcohol is served | C18: Yes
A19: Working at heights | B19: Working at height issues addressed | C19: NA
A20: COVID-19 | B20: Staff designated to check in external guests | C20: NA
... A23: COVID-19 | B23: Masks available should guests ask | C23: NA

Sheet Risk Matrix
A1: RISK ASSESSMENT MATRIX
A2: Use this page to understand what rating you need to give each 'risk'
A14: * Aligned with RMIT University risk management tool - PRIME
A16: * Extracted from Risk Management Procedure - RMIT University
A17: # Extracted from Health and Safety Forms and Templates - Risk Assessment Template

Sheet Validation
A1: VALIDATIONS | G1: Formula
A2: Yes | G2: Assesment | H2: C17 | I2: =IF(COUNTIF(C8:C15,"Yes"),"'COMPLICATED' EVENT: Complete the Risk Safety Register for outdoor events","You have a 'SIMPLE' event - You only need to complete the 'On The Day' Check-List!")
A3: No | G3: RSR | H3: H11 onwards | I3: =IFERROR(VLOOKUP(CONCAT(LEFT(G11,1),LEFT(F11,1)),Validation!A$7:B$31,2,FALSE),"")
A4: NA
D6: Consequence
A7: A1 | B7: Moderate | D7: A) Catastrophic | E7: A
A8: A2 | B8: High | D8: B) Major | E8: B
A9: A3 | B9: Very High | D9: C) Moderate | E9: C
A10: A4 | B10: Very High | D10: D) Minor | E10: D
A11: A5 | B11: Very High | D11: E) Insignificant | E11: E
A12: B1 | B12: Moderate
A13: B2 | B13: High | D13: Probability
A14: B3 | B14: High | D14: 1) Rare | E14: 1
A15: B4 | B15: Very High | D15: 2) Unlikely | E15: 2
A16: B5 | B16: Very High | D16: 3) Possible | E16: 3
A17: C1 | B17: Low | D17: 4) Likely | E17: 4
A18: C2 | B18: Moderate | D18: 5) Almost Certain | E18: 5
A19: C3 | B19: Moderate
A20: C4 | B20: High
A21: C5 | B21: High | D21: Actioned
A22: D1 | B22: Low | D22: In progress
A23: D2 | B23: Low
A24: D3 | B24: Moderate
A25: D4 | B25: Moderate
A26: D5 | B26: Moderate
A27: E1 | B27: Low
A28: E2 | B28: Low
A29: E3 | B29: Low
A30: E4 | B30: Low
A31: E5 | B31: Low
